BEGIN:VCALENDAR
VERSION:2.0
PRODID:-//Tennessee Association of Broadcasters - ECPv6.15.20//NONSGML v1.0//EN
CALSCALE:GREGORIAN
METHOD:PUBLISH
X-ORIGINAL-URL:https://tabtn.org
X-WR-CALDESC:Events for Tennessee Association of Broadcasters
REFRESH-INTERVAL;VALUE=DURATION:PT1H
X-Robots-Tag:noindex
X-PUBLISHED-TTL:PT1H
BEGIN:VTIMEZONE
TZID:America/Chicago
BEGIN:DAYLIGHT
TZOFFSETFROM:-0600
TZOFFSETTO:-0500
TZNAME:CDT
DTSTART:20220313T080000
END:DAYLIGHT
BEGIN:STANDARD
TZOFFSETFROM:-0500
TZOFFSETTO:-0600
TZNAME:CST
DTSTART:20221106T070000
END:STANDARD
BEGIN:DAYLIGHT
TZOFFSETFROM:-0600
TZOFFSETTO:-0500
TZNAME:CDT
DTSTART:20230312T080000
END:DAYLIGHT
BEGIN:STANDARD
TZOFFSETFROM:-0500
TZOFFSETTO:-0600
TZNAME:CST
DTSTART:20231105T070000
END:STANDARD
BEGIN:DAYLIGHT
TZOFFSETFROM:-0600
TZOFFSETTO:-0500
TZNAME:CDT
DTSTART:20240310T080000
END:DAYLIGHT
BEGIN:STANDARD
TZOFFSETFROM:-0500
TZOFFSETTO:-0600
TZNAME:CST
DTSTART:20241103T070000
END:STANDARD
BEGIN:DAYLIGHT
TZOFFSETFROM:-0600
TZOFFSETTO:-0500
TZNAME:CDT
DTSTART:20250309T080000
END:DAYLIGHT
BEGIN:STANDARD
TZOFFSETFROM:-0500
TZOFFSETTO:-0600
TZNAME:CST
DTSTART:20251102T070000
END:STANDARD
END:VTIMEZONE
BEGIN:VEVENT
DTSTART;VALUE=DATE:20240916
DTEND;VALUE=DATE:20240921
DTSTAMP:20260424T070648
CREATED:20240320T150317Z
LAST-MODIFIED:20240320T150317Z
UID:14604-1726444800-1726876799@tabtn.org
SUMMARY:TAB Fall Virtual Job Fair
DESCRIPTION:
URL:https://tabtn.org/event/tab-fall-virtual-job-fair/
CATEGORIES:Job Fair
END:VEVENT
BEGIN:VEVENT
DTSTART;VALUE=DATE:20231002
DTEND;VALUE=DATE:20231007
DTSTAMP:20260424T070648
CREATED:20230912T154207Z
LAST-MODIFIED:20230912T154208Z
UID:14216-1696204800-1696636799@tabtn.org
SUMMARY:TAB Fall 2023 Virtual Job Fair
DESCRIPTION:The TAB will be hosting our second virtual job fair of 2023 during the week of October 2–6. \nRegistration will be the same format as always. Instead of emailing me your information\, we have created a form to fill out to streamline the entry process. \n\nTo register\, your first step is to fill out the form on the link below. (Please fill out the entire form)  \nTo Register: CLICK HERE \n\nYour next step is to post any job openings that you’d like to include at the National Alliance of State Broadcasters Association’s www.CareerPage.org. \n\nIf you are new to CareerPage.org\, simply click on the “Register” link on the home page. \nUse the access code 3Sdg54 to complete your registration. \n\nBeginning the Monday of the job fair\, your participating stations promote the event and drive visitors to the site. \nYou can link to the site from your website\, or send listeners/viewers directly to www.BroadcastersVirtualJobFair.com \n\nTV and Radio scripts will be sent out soon. \nWe suggest all stations air their promos DURING the week of the job fair October 2-6.  \n\nNote: The Association does not require any documentation of this insertion\, we only ask that make a good faith effort to air them and help get the word out. The success for this virtual job fair will depend upon you promoting the event. Thank you and good luck on finding your next big superstar!
URL:https://tabtn.org/event/tab-fall-2023-virtual-job-fair/
CATEGORIES:Job Fair
END:VEVENT
END:VCALENDAR